BEGIN:VCALENDAR
VERSION:2.0
PRODID:-//Connecticut&#039;s Reentry Community - ECPv5.0.3.1//NONSGML v1.0//EN
CALSCALE:GREGORIAN
METHOD:PUBLISH
X-WR-CALNAME:Connecticut&#039;s Reentry Community
X-ORIGINAL-URL:https://ctreentry.org
X-WR-CALDESC:Events for Connecticut&#039;s Reentry Community
BEGIN:VTIMEZONE
TZID:UTC
BEGIN:STANDARD
TZOFFSETFROM:+0000
TZOFFSETTO:+0000
TZNAME:UTC
DTSTART:20200101T000000
END:STANDARD
END:VTIMEZONE
BEGIN:VEVENT
DTSTART;TZID=UTC:20200917T100000
DTEND;TZID=UTC:20200917T120000
DTSTAMP:20260423T084252
CREATED:20200831T181532Z
LAST-MODIFIED:20200904T151812Z
UID:2885-1600336800-1600344000@ctreentry.org
SUMMARY:Police Transparency & Accountability Listening Sessions
DESCRIPTION:The Police Transparency and Accountability Task\nForce needs to hear from you! We will be reporting\nrecommendations to the legislature and Governor and we\nneed your input to make sure we represent all Connecticut\nvoices. Come share your testimony with the Task Force in\none of our upcoming virtual listening sessions. \n  \nRegister here: https://docs.google.com/forms/d/e/1FAIpQLSfsCR7vo4jBw2d7wdLUi2mcp5oJ-5w4IeEoaV2F4Hh31fs5Uw/viewform \n
URL:https://ctreentry.org/event/upcoming-event-2
END:VEVENT
END:VCALENDAR