BEGIN:VCALENDAR
VERSION:2.0
PRODID:-//Connecticut&#039;s Reentry Community - ECPv5.0.3.1//NONSGML v1.0//EN
CALSCALE:GREGORIAN
METHOD:PUBLISH
X-WR-CALNAME:Connecticut&#039;s Reentry Community
X-ORIGINAL-URL:https://ctreentry.org
X-WR-CALDESC:Events for Connecticut&#039;s Reentry Community
BEGIN:VTIMEZONE
TZID:UTC
BEGIN:STANDARD
TZOFFSETFROM:+0000
TZOFFSETTO:+0000
TZNAME:UTC
DTSTART:20200101T000000
END:STANDARD
END:VTIMEZONE
BEGIN:VEVENT
DTSTART;TZID=UTC:20200624T080000
DTEND;TZID=UTC:20200624T170000
DTSTAMP:20260422T102454
CREATED:20200624T153250Z
LAST-MODIFIED:20200624T153250Z
UID:2377-1592985600-1593018000@ctreentry.org
SUMMARY:Theater Thursdays: Camden's Turn
DESCRIPTION:JUNE 25 – You are invited to this week’s virtual “Theater Thursdays” with a new special encore presentation of”Camden’s Turn.” \n
URL:https://ctreentry.org/event/theater-thursdays-camdens-turn
END:VEVENT
END:VCALENDAR