BEGIN:VCALENDAR
VERSION:2.0
PRODID:-//Connecticut&#039;s Reentry Community - ECPv5.0.3.1//NONSGML v1.0//EN
CALSCALE:GREGORIAN
METHOD:PUBLISH
X-WR-CALNAME:Connecticut&#039;s Reentry Community
X-ORIGINAL-URL:https://ctreentry.org
X-WR-CALDESC:Events for Connecticut&#039;s Reentry Community
BEGIN:VTIMEZONE
TZID:UTC
BEGIN:STANDARD
TZOFFSETFROM:+0000
TZOFFSETTO:+0000
TZNAME:UTC
DTSTART:20200101T000000
END:STANDARD
END:VTIMEZONE
BEGIN:VEVENT
DTSTART;TZID=UTC:20200528T100000
DTEND;TZID=UTC:20200528T113000
DTSTAMP:20260422T085030
CREATED:20200603T215324Z
LAST-MODIFIED:20200624T152800Z
UID:2349-1590660000-1590665400@ctreentry.org
SUMMARY:Make it Happen May Part 4
DESCRIPTION:MAY 28 – A webinar devoted to discussing voting rights for individuals with criminal convictions. \n
URL:https://ctreentry.org/event/make-it-happen-may-pt-4
END:VEVENT
END:VCALENDAR